BEGIN:VCALENDAR
VERSION:2.0
PRODID:-//Explore Wasaga Beach - ECPv6.15.20//NONSGML v1.0//EN
CALSCALE:GREGORIAN
METHOD:PUBLISH
X-WR-CALNAME:Explore Wasaga Beach
X-ORIGINAL-URL:https://explorewasagabeach.com
X-WR-CALDESC:Events for Explore Wasaga Beach
REFRESH-INTERVAL;VALUE=DURATION:PT1H
X-Robots-Tag:noindex
X-PUBLISHED-TTL:PT1H
BEGIN:VTIMEZONE
TZID:America/Toronto
BEGIN:DAYLIGHT
TZOFFSETFROM:-0500
TZOFFSETTO:-0400
TZNAME:EDT
DTSTART:20240310T070000
END:DAYLIGHT
BEGIN:STANDARD
TZOFFSETFROM:-0400
TZOFFSETTO:-0500
TZNAME:EST
DTSTART:20241103T060000
END:STANDARD
BEGIN:DAYLIGHT
TZOFFSETFROM:-0500
TZOFFSETTO:-0400
TZNAME:EDT
DTSTART:20250309T070000
END:DAYLIGHT
BEGIN:STANDARD
TZOFFSETFROM:-0400
TZOFFSETTO:-0500
TZNAME:EST
DTSTART:20251102T060000
END:STANDARD
BEGIN:DAYLIGHT
TZOFFSETFROM:-0500
TZOFFSETTO:-0400
TZNAME:EDT
DTSTART:20260308T070000
END:DAYLIGHT
BEGIN:STANDARD
TZOFFSETFROM:-0400
TZOFFSETTO:-0500
TZNAME:EST
DTSTART:20261101T060000
END:STANDARD
BEGIN:DAYLIGHT
TZOFFSETFROM:-0500
TZOFFSETTO:-0400
TZNAME:EDT
DTSTART:20270314T070000
END:DAYLIGHT
BEGIN:STANDARD
TZOFFSETFROM:-0400
TZOFFSETTO:-0500
TZNAME:EST
DTSTART:20271107T060000
END:STANDARD
END:VTIMEZONE
BEGIN:VTIMEZONE
TZID:UTC
BEGIN:STANDARD
TZOFFSETFROM:+0000
TZOFFSETTO:+0000
TZNAME:UTC
DTSTART:20240101T000000
END:STANDARD
END:VTIMEZONE
BEGIN:VEVENT
DTSTART;TZID=America/Toronto:20260419T130000
DTEND;TZID=America/Toronto:20260419T150000
DTSTAMP:20260424T022859
CREATED:20260407T122936Z
LAST-MODIFIED:20260407T122936Z
UID:10002019-1776603600-1776610800@explorewasagabeach.com
SUMMARY:SPRING SHORELINE CLEANUP
DESCRIPTION:BE A SOLUTION TO SHORELINE POLLUTION\nand Make this event part of your EARTH DAY celebrations \nJoin Wasaga Beach Climate Action Team in protecting and preserving the Bay by participating in shoreline cleanups\, with the support of The Town of Wasaga Beach\, The Rotary Club of Wasaga Beach\, Georgian Bay Forever and Jason George Photography. \nBeach Area 2 – Free parking at Municipal Lot \, 5th Street North \nPlease bring your own closed-toe footwear\, cleaning equipment (work gloves\, nitrile gloves\, buckets for garbage\, extension pickers); Some extra supplies will be on hand.\nDress for weather – event will go rain or shine.\nParticipants under 18 must be accompagned with an adult to sign a waiver.\nSecondary schools volunteers are eligible for Community Service Hours accredited by this event.\nBring a refillable container for your FREE hot chocolate offered by Tim Hortons.
URL:https://explorewasagabeach.com/event/spring-shoreline-cleanup/
LOCATION:Beach Area 2
ATTACH;FMTTYPE=image/png:https://explorewasagabeach.com/wp-content/uploads/2026/04/26ShorelineCleanUpSocMediaGerard.png
ORGANIZER;CN="Wasaga Beach Climate Action Team":MAILTO:info@wasagabeachclimateaction.com
END:VEVENT
BEGIN:VEVENT
DTSTART;VALUE=DATE:20260409
DTEND;VALUE=DATE:20260412
DTSTAMP:20260424T022859
CREATED:20260112T185452Z
LAST-MODIFIED:20260112T185452Z
UID:10001757-1775692800-1775951999@explorewasagabeach.com
SUMMARY:DOCS On Ice 2026 Physician Hockey Tournament
DESCRIPTION:Docs On Ice is an annual Ontario physician hockey tournament that brings more than 800 doctors together each year for friendly competition\, community connection\, and fundraising in support of local charities. \nEstablished in 1983\, Docs On Ice is one of Canada’s longest-running physician events and is proudly hosted by a different Ontario community each year — offering host towns a unique opportunity to showcase their community\, lifestyle\, and amenities to physicians. \nThis year\, 60 teams are playing in Collingwood\, Wasaga Beach\, Stayner\, Creemore\, Thornbury\, and Meaford — bringing visitors\, energy\, economic activity\, and meaningful exposure to the region.
URL:https://explorewasagabeach.com/event/docs-on-ice-2026-physician-hockey-tournament/
LOCATION:Wasaga Stars Arena\, 544 River Road West\, Wasaga Beach\, ON\, Canada
ATTACH;FMTTYPE=image/jpeg:https://explorewasagabeach.com/wp-content/uploads/2026/01/IMG_5705.jpeg
END:VEVENT
BEGIN:VEVENT
DTSTART;TZID=America/Toronto:20251231T190000
DTEND;TZID=America/Toronto:20260101T013000
DTSTAMP:20260424T022859
CREATED:20251118T205903Z
LAST-MODIFIED:20251118T205903Z
UID:10001726-1767207600-1767231000@explorewasagabeach.com
SUMMARY:Wasaga Beach New Year Celebration
DESCRIPTION:Join us for the Wasaga Beach New Year Celebration\nfeaturing live performances by\nREGGADICTION\nand\nspecial guest Heather Halo \nThree-course Meal • Dresscode: All White • Midnight toast \nMenu includes BBQ Jerk Chicken\, Red Snapper\, Curry Goat\, Vegetarian Lasagne and much more. \nEarly bird tickets available now at our website and select locations. Secure your New Year’s Eve outing at a special early bird price until Dec. 2\, 2025! \n📍Remax Room\, Wasaga Stars Arena
URL:https://explorewasagabeach.com/event/wasaga-beach-new-year-celebration/
LOCATION:Wasaga Stars Arena\, 544 River Road West\, Wasaga Beach\, ON\, Canada
ATTACH;FMTTYPE=image/jpeg:https://explorewasagabeach.com/wp-content/uploads/2025/11/JIT_NYE_Poster_024a.jpg
ORGANIZER;CN="Jerk It Up":MAILTO:ray@jerkitup.ca
END:VEVENT
BEGIN:VEVENT
DTSTART;TZID=America/Toronto:20250627T060000
DTEND;TZID=America/Toronto:20250627T223000
DTSTAMP:20260424T022859
CREATED:20250430T153132Z
LAST-MODIFIED:20250430T153132Z
UID:10001588-1751004000-1751063400@explorewasagabeach.com
SUMMARY:Kick off to Summer
DESCRIPTION:Wasaga Beach Sports and Entertainment (WBSE) is turning up the heat with it’s Kick Off to Summer event\, coming to the Wasaga Stars Arena on Friday\, June 27\, 2025. Get ready for a high-energy night of music that’ll have the whole crowd rocking like only Wasaga Beach knows how! \nOpening the night are The Carpet Frogs\, widely regarded as one of the best cover bands in the business. Known for backing Canadian rock legends like Randy Bachman and Burton Cummings\, this powerhouse group brings a setlist packed with classic hits and a stage presence that’s second to none. \nThen comes the main event: Elton Rohn\, the evening’s electrifying headliner! More than just a tribute act\, Elton Rohn channels the magic\, energy\, and larger-than-life presence of Sir Elton John with uncanny precision. Dazzling costumes\, pitch-perfect vocals\, and a stellar backing band\, Elton Rohn delivers a performance so authentic\, you’ll feel the Rocket Man himself has touched down in Wasaga Beach! It’s not just a show—it’s a musical journey that captures the heart\, soul\, and spectacle of a true icon.\nTickets are on sale now at wbse.ca. Grab yours early and get ready to sing\, dance\, and kick off your summer in unforgettable style! \nEVENT DETAILS:\n• Date: Friday\, June 27\, 2025\n• Venue: Wasaga Stars Arena\n• Doors Open: 6:00 PM\n• Local Opener – Mirrage: 6:30 PM\n• Opening Act – The Carpet Frogs: 7:20 PM\n• Headliner – Elton Rohn: 8:40 PM\n• All ages\n• Licensed Bar: A fully licensed bar will be available for attendees of legal drinking age\n• Food vendors onsite\n• General admission: $40\n• Tickets available at wbse.ca
URL:https://explorewasagabeach.com/event/kick-off-to-summer/
LOCATION:Wasaga Stars Arena\, 544 River Road West\, Wasaga Beach\, ON\, Canada
ATTACH;FMTTYPE=image/png:https://explorewasagabeach.com/wp-content/uploads/2025/04/Kick-off-to-summer-169.png
ORGANIZER;CN="Wasaga Beach Sports & Entertainment":MAILTO:info@wbse.ca
END:VEVENT
BEGIN:VEVENT
DTSTART;TZID=America/Toronto:20250608T140000
DTEND;TZID=America/Toronto:20250608T160000
DTSTAMP:20260424T022859
CREATED:20250422T151333Z
LAST-MODIFIED:20250422T151454Z
UID:10001587-1749391200-1749398400@explorewasagabeach.com
SUMMARY:Champions on Ice
DESCRIPTION:Wasaga Beach Sports and Entertainment (WBSE) is set to welcome some of the biggest names in figure skating during Champions on Ice at the Wasaga Stars Arena on June 8\, 2025. Hosted by Olympic and World Silver Medalist Elizabeth Manley\, this spectacular event will feature a lineup of champion skaters\, starring two-time Olympic Silver Medalist Elvis Stojko and four-time World Champion Kurt Browning. Fans of the sport will be treated to an unforgettable performance showcasing the very best in figure skating talent including Olympic team Gold Medalist Kaetlyn Osmond\, two-time Canadian Champion Nam Nguyen\, two-time Mexican Champion Gladys Orozco- Stojko\, Battle of the Blades Champion Violetta Afanasieva and more! \n• Doors Open: 1:00 PM\n• Showtime: 2:00 PM\n• Post-Show Meet and Greet: 4:30 PM (tickets available for $25)\n• Licensed Bar: Available for attendees of legal drinking age\n• On-site parking: FREE courtesy of Barriston Law
URL:https://explorewasagabeach.com/event/champions-on-ice/
LOCATION:Wasaga Stars Arena\, 544 River Road West\, Wasaga Beach\, ON\, Canada
ATTACH;FMTTYPE=image/png:https://explorewasagabeach.com/wp-content/uploads/2025/04/Champions-On-Ice-1920px-1.png
ORGANIZER;CN="Wasaga Beach Sports & Entertainment":MAILTO:info@wbse.ca
END:VEVENT
BEGIN:VEVENT
DTSTART;TZID=America/Toronto:20250607T183000
DTEND;TZID=America/Toronto:20250607T203000
DTSTAMP:20260424T022859
CREATED:20250417T215123Z
LAST-MODIFIED:20250417T215123Z
UID:10001580-1749321000-1749328200@explorewasagabeach.com
SUMMARY:Fireside Chat with Liz\, Kurt and Elvis
DESCRIPTION:In the lead up to Champions on Ice on June 8th\, skating fans will have the opportunity to purchase tickets to attend an exclusive and intimate Fireside Chat with Elizabeth Manley\, Elvis Stojko\, and Kurt Browning on June 7\, 2025. The skating icons will share personal stories from their decorated careers\, answer audience questions\, and offer insights into their lives beyond the rink. Guests of the Fireside Chat will also get a sneak peek of the Champions on Ice rehearsal.
URL:https://explorewasagabeach.com/event/fireside-chat-with-liz-kurt-and-elvis/
LOCATION:Wasaga Stars Arena\, 544 River Road West\, Wasaga Beach\, ON\, Canada
ATTACH;FMTTYPE=image/jpeg:https://explorewasagabeach.com/wp-content/uploads/2025/04/ticket-master-image-fireside.jpg
ORGANIZER;CN="Wasaga Beach Sports & Entertainment":MAILTO:info@wbse.ca
END:VEVENT
BEGIN:VEVENT
DTSTART;TZID=UTC:20250601T100000
DTEND;TZID=UTC:20250601T170000
DTSTAMP:20260424T022859
CREATED:20250305T182530Z
LAST-MODIFIED:20250501T120626Z
UID:10001341-1748772000-1748797200@explorewasagabeach.com
SUMMARY:3rd Annual Ontario Pinfest
DESCRIPTION:Come to the shores of Georgian Bay and enjoy Ontario’s only pinball festival \nBring the whole family and enjoy a great event \nArcade and pinball machines from the 1940’s to the newest\, just released games of 2025 \nAll games will be set on ‘FREE PLAY’\, just pay admission and play as much as you want all weekend \nADMISSIONS:\nSat. May 31 $20 online or at the door\nSun. June 1 $25 online or at the door \nEARLY BIRD* (2 Day Weekend Pass) $35 ONLINE ONLY\n*MUST BE PAID IN ADVANCE ONLINE BY MAY 10/25\n*NON-REFUNDABLE \nKids 12 & under FREE \nHave questions?\nPlease visit www.ontariopinfest.ca
URL:https://explorewasagabeach.com/event/3rd-annual-ontario-pinfest/2025-06-01/
LOCATION:Great Northern Exhibition\, 2280 Exhibition Rd\, Stayner\, L0M 1S0
ATTACH;FMTTYPE=image/jpeg:https://explorewasagabeach.com/wp-content/uploads/2025/03/IMG_6798.jpeg
ORGANIZER;CN="Pinballrom":MAILTO:pinballrom@rogers.com
END:VEVENT
BEGIN:VEVENT
DTSTART;TZID=UTC:20250531T100000
DTEND;TZID=UTC:20250531T180000
DTSTAMP:20260424T022859
CREATED:20250305T182530Z
LAST-MODIFIED:20250501T120626Z
UID:10001340-1748685600-1748714400@explorewasagabeach.com
SUMMARY:3rd Annual Ontario Pinfest
DESCRIPTION:Come to the shores of Georgian Bay and enjoy Ontario’s only pinball festival \nBring the whole family and enjoy a great event \nArcade and pinball machines from the 1940’s to the newest\, just released games of 2025 \nAll games will be set on ‘FREE PLAY’\, just pay admission and play as much as you want all weekend \nADMISSIONS:\nSat. May 31 $20 online or at the door\nSun. June 1 $25 online or at the door \nEARLY BIRD* (2 Day Weekend Pass) $35 ONLINE ONLY\n*MUST BE PAID IN ADVANCE ONLINE BY MAY 10/25\n*NON-REFUNDABLE \nKids 12 & under FREE \nHave questions?\nPlease visit www.ontariopinfest.ca
URL:https://explorewasagabeach.com/event/3rd-annual-ontario-pinfest/2025-05-31/
LOCATION:Great Northern Exhibition\, 2280 Exhibition Rd\, Stayner\, L0M 1S0
ATTACH;FMTTYPE=image/jpeg:https://explorewasagabeach.com/wp-content/uploads/2025/03/IMG_6798.jpeg
ORGANIZER;CN="Pinballrom":MAILTO:pinballrom@rogers.com
END:VEVENT
BEGIN:VEVENT
DTSTART;TZID=UTC:20250427T130000
DTEND;TZID=UTC:20250427T150000
DTSTAMP:20260424T022859
CREATED:20250317T160840Z
LAST-MODIFIED:20250317T160840Z
UID:10001366-1745758800-1745766000@explorewasagabeach.com
SUMMARY:Wasaga Beach Spring Shoreline Clean-up
DESCRIPTION:Wasaga Beach Climate Action Team and Georgian Bay Forever invite you to Join in protecting and preserving the Bay by participating in Beach cleanup. \nSPRING SHORELINE CLEAN-UP\nSUNDAY APRIL 27\, 2025\n1:00PM TO 3:00PM – BEACH AREA 2\nFree parking at Municipal Lot\, 5th Street North \nBE A SOLUTION TO SHORELINE POLLUTION\nand Make this event part of your EARTH DAY celebrations
URL:https://explorewasagabeach.com/event/wasaga-beach-spring-shoreline-clean-up/2025-04-27/2/
LOCATION:Beach Area 2
ATTACH;FMTTYPE=image/jpeg:https://explorewasagabeach.com/wp-content/uploads/2025/03/25ShorelineCleanUpPoster-1-scaled.jpg
ORGANIZER;CN="Wasaga Beach Climate Action Team":MAILTO:info@wasagabeachclimateaction.com
END:VEVENT
BEGIN:VEVENT
DTSTART;TZID=UTC:20250427T080000
DTEND;TZID=UTC:20250427T170000
DTSTAMP:20260424T022859
CREATED:20250317T160840Z
LAST-MODIFIED:20250317T160840Z
UID:10001365-1745740800-1745773200@explorewasagabeach.com
SUMMARY:Wasaga Beach Spring Shoreline Clean-up
DESCRIPTION:Wasaga Beach Climate Action Team and Georgian Bay Forever invite you to Join in protecting and preserving the Bay by participating in Beach cleanup. \nSPRING SHORELINE CLEAN-UP\nSUNDAY APRIL 27\, 2025\n1:00PM TO 3:00PM – BEACH AREA 2\nFree parking at Municipal Lot\, 5th Street North \nBE A SOLUTION TO SHORELINE POLLUTION\nand Make this event part of your EARTH DAY celebrations
URL:https://explorewasagabeach.com/event/wasaga-beach-spring-shoreline-clean-up/2025-04-27/1/
LOCATION:Beach Area 2
ATTACH;FMTTYPE=image/jpeg:https://explorewasagabeach.com/wp-content/uploads/2025/03/25ShorelineCleanUpPoster-1-scaled.jpg
ORGANIZER;CN="Wasaga Beach Climate Action Team":MAILTO:info@wasagabeachclimateaction.com
END:VEVENT
BEGIN:VEVENT
DTSTART;TZID=UTC:20250329T143000
DTEND;TZID=UTC:20250329T173000
DTSTAMP:20260424T022859
CREATED:20250312T173607Z
LAST-MODIFIED:20250312T173607Z
UID:10001349-1743258600-1743269400@explorewasagabeach.com
SUMMARY:CIRCUS On Ice
DESCRIPTION:Join us for an incredible show on ICE! \nWasaga Beach Figure Skating Club presents CIRCUS On Ice! \nPurchase tickets now via Showpass at https://www.showpass.com/circus-on-ice/
URL:https://explorewasagabeach.com/event/circus-on-ice/
LOCATION:Wasaga Stars Arena\, 544 River Road West\, Wasaga Beach\, ON\, Canada
ATTACH;FMTTYPE=image/webp:https://explorewasagabeach.com/wp-content/uploads/2025/03/b4f24b4a-e10.webp
ORGANIZER;CN="WASAGA BEACH FIGURE SKATING CLUB":MAILTO:wbfscregistrar@gmail.com
END:VEVENT
END:VCALENDAR